BEGIN:VCALENDAR
VERSION:2.0
PRODID:-//Herndon Reston Indivisible - ECPv6.15.20//NONSGML v1.0//EN
CALSCALE:GREGORIAN
METHOD:PUBLISH
X-WR-CALNAME:Herndon Reston Indivisible
X-ORIGINAL-URL:https://herndonrestonindivisible.org
X-WR-CALDESC:Events for Herndon Reston Indivisible
REFRESH-INTERVAL;VALUE=DURATION:PT1H
X-Robots-Tag:noindex
X-PUBLISHED-TTL:PT1H
BEGIN:VTIMEZONE
TZID:America/New_York
BEGIN:DAYLIGHT
TZOFFSETFROM:-0500
TZOFFSETTO:-0400
TZNAME:EDT
DTSTART:20190310T070000
END:DAYLIGHT
BEGIN:STANDARD
TZOFFSETFROM:-0400
TZOFFSETTO:-0500
TZNAME:EST
DTSTART:20191103T060000
END:STANDARD
BEGIN:DAYLIGHT
TZOFFSETFROM:-0500
TZOFFSETTO:-0400
TZNAME:EDT
DTSTART:20200308T070000
END:DAYLIGHT
BEGIN:STANDARD
TZOFFSETFROM:-0400
TZOFFSETTO:-0500
TZNAME:EST
DTSTART:20201101T060000
END:STANDARD
BEGIN:DAYLIGHT
TZOFFSETFROM:-0500
TZOFFSETTO:-0400
TZNAME:EDT
DTSTART:20210314T070000
END:DAYLIGHT
BEGIN:STANDARD
TZOFFSETFROM:-0400
TZOFFSETTO:-0500
TZNAME:EST
DTSTART:20211107T060000
END:STANDARD
BEGIN:DAYLIGHT
TZOFFSETFROM:-0500
TZOFFSETTO:-0400
TZNAME:EDT
DTSTART:20220313T070000
END:DAYLIGHT
BEGIN:STANDARD
TZOFFSETFROM:-0400
TZOFFSETTO:-0500
TZNAME:EST
DTSTART:20221106T060000
END:STANDARD
END:VTIMEZONE
BEGIN:VEVENT
DTSTART;TZID=America/New_York:20210119T183000
DTEND;TZID=America/New_York:20210119T200000
DTSTAMP:20260425T232554
CREATED:20201224T174844Z
LAST-MODIFIED:20201225T033155Z
UID:12969-1611081000-1611086400@herndonrestonindivisible.org
SUMMARY:HRI General Meeting: Biden-Eve
DESCRIPTION:Contact: herndonrestonindivisible@gmail.com for details.
URL:https://herndonrestonindivisible.org/event/hri-general-meeting-pre-inauguration-meet-up/
LOCATION:Zoom
ATTACH;FMTTYPE=image/jpeg:https://herndonrestonindivisible.org/wp-content/uploads/2020/07/hrigeneralmeetingplain2.jpg
END:VEVENT
BEGIN:VEVENT
DTSTART;TZID=America/New_York:20210119T053000
DTEND;TZID=America/New_York:20210119T173000
DTSTAMP:20260425T232554
CREATED:20210209T110844Z
LAST-MODIFIED:20210209T110844Z
UID:13562-1611034200-1611077400@herndonrestonindivisible.org
SUMMARY:COVID-19 Memorial
DESCRIPTION:
URL:https://herndonrestonindivisible.org/event/covid-19-memorial/
END:VEVENT
BEGIN:VEVENT
DTSTART;TZID=America/New_York:20210115T100000
DTEND;TZID=America/New_York:20210115T120000
DTSTAMP:20260425T232554
CREATED:20210209T102655Z
LAST-MODIFIED:20210209T102655Z
UID:13546-1610704800-1610712000@herndonrestonindivisible.org
SUMMARY:HRI Resistance Writers Meeting
DESCRIPTION:An informal virtual gathering on Fridays to work on resistance activities: write letters/postcards\, make calls\, read\, talk with fellow indivisibles about important issues that need our attention.  \nFill up with a weeks worth of actions. \nContact: herndonrestonindivisible@gmail.com with any questions and to get connected virtually.
URL:https://herndonrestonindivisible.org/event/hri-resistance-writers-meeting-5/
LOCATION:Zoom
ATTACH;FMTTYPE=image/jpeg:https://herndonrestonindivisible.org/wp-content/uploads/2017/11/resistancewritersfriday.jpg
END:VEVENT
BEGIN:VEVENT
DTSTART;TZID=America/New_York:20210114T100000
DTEND;TZID=America/New_York:20210114T120000
DTSTAMP:20260425T232554
CREATED:20210114T042647Z
LAST-MODIFIED:20210114T042647Z
UID:13386-1610618400-1610625600@herndonrestonindivisible.org
SUMMARY:NRA Monthly Protest & Vigil
DESCRIPTION:The monthly NRA protest and vigil is still on this month\, it is! Despite COVID and the tragic event at the Capital last Wednesday\, it’s still important to deliver our gun violence prevention message.\nWe are asked to be respectful of the limit on gatherings and have pods of no more than 10 people spread out over different sides of the street. Alternatively\, feel free to drive by and honk your horn!\nHope to see you there!
URL:https://herndonrestonindivisible.org/event/nra-monthly-protest-vigil/
LOCATION:NRA Headquarters\, 11250 Waples Mill Rd\, Fairfax\, VA\, 22030
END:VEVENT
BEGIN:VEVENT
DTSTART;TZID=America/New_York:20210113T113000
DTEND;TZID=America/New_York:20210113T133000
DTSTAMP:20260425T232554
CREATED:20201224T174554Z
LAST-MODIFIED:20210112T131740Z
UID:12966-1610537400-1610544600@herndonrestonindivisible.org
SUMMARY:Indivisible Day of Action: The People Lead
DESCRIPTION:Indivisible Day of Action: The People Lead (Virtual Event) \nHerndon Reston Indivisible is participating in Indivisible’s PEOPLE LEAD days of action on January 13th.\nIndivisible named this day of action The People Lead because the people delivered a huge victory and beat Trump. We kept the House and won the Senate. We’ve earned a mandate to demand transformative change. Join us!\n\nWhat to bring: computing device\, pen/pencil for letters\, resistbot (if you have it)\, talent\, passion\, hope.\n\nContact: herndonrestonindivisible@gmail.com for details and to obtain the Zoom link.\n\nFor more information from Indivisible about Indivisible’s The People Lead\, Day of Action\, read up here: https://indivisible.org/resource/people-lead-event-toolkit
URL:https://herndonrestonindivisible.org/event/indivisible-the-people-lead-event/
LOCATION:Virtual
ATTACH;FMTTYPE=image/jpeg:https://herndonrestonindivisible.org/wp-content/uploads/2020/12/ThePeopleLead-scaled-e1610456922239.jpg
END:VEVENT
BEGIN:VEVENT
DTSTART;TZID=America/New_York:20210110T160000
DTEND;TZID=America/New_York:20210110T173000
DTSTAMP:20260425T232554
CREATED:20210209T111159Z
LAST-MODIFIED:20210209T111159Z
UID:13564-1610294400-1610299800@herndonrestonindivisible.org
SUMMARY:VA Grassroots Coalition Meeting
DESCRIPTION:
URL:https://herndonrestonindivisible.org/event/va-grassroots-coalition-meeting-6/
LOCATION:Zoom
END:VEVENT
BEGIN:VEVENT
DTSTART;TZID=America/New_York:20210108T100000
DTEND;TZID=America/New_York:20210108T120000
DTSTAMP:20260425T232554
CREATED:20210209T102857Z
LAST-MODIFIED:20210209T102857Z
UID:13548-1610100000-1610107200@herndonrestonindivisible.org
SUMMARY:HRI Resistance Writers Meeting
DESCRIPTION:An informal virtual gathering on Fridays to work on resistance activities: write letters/postcards\, make calls\, read\, talk with fellow indivisibles about important issues that need our attention.  \nFill up with a weeks worth of actions. \nContact: herndonrestonindivisible@gmail.com with any questions and to get connected virtually.
URL:https://herndonrestonindivisible.org/event/hri-resistance-writers-meeting-6/
LOCATION:Zoom
ATTACH;FMTTYPE=image/jpeg:https://herndonrestonindivisible.org/wp-content/uploads/2017/11/resistancewritersfriday.jpg
END:VEVENT
BEGIN:VEVENT
DTSTART;TZID=America/New_York:20210107T190000
DTEND;TZID=America/New_York:20210107T203000
DTSTAMP:20260425T232554
CREATED:20201224T164306Z
LAST-MODIFIED:20201224T164330Z
UID:12953-1610046000-1610051400@herndonrestonindivisible.org
SUMMARY:Hunter Mill Democrats: 2021 Virtual Straw Poll
DESCRIPTION:Join the Hunter Mill Democrats for an evening with statewide Democratic candidates for the offices of Governor\, Lieutenant Governor\, and Attorney General. Take part in the first straw poll of the 2021cycle and let your voice be heard that Democrats are ready to keep all three statewide positions in this critical election year. Votes will be anonymous. \nBy contributing to the Hunter Mill Democrats\, you help HMDDC support our Democratic nominees throughout Fairfax and Virginia. \nAll contributors will receive a non-transferable link to the event approximately 24 hours prior to the event. \nCampaign committees\, unions\, and all other organizations must complete the printable registration form and pay by check. Checks must be made out to the Fairfax County Democratic Committee and be mailed to 8500 Executive Park Ave\, Suite 402\, Fairfax\, VA 22031. Email info@fairfaxdemocrats.org with questions. \nRegister ==> HERE \n 
URL:https://herndonrestonindivisible.org/event/hunter-mill-democrats-2021-virtual-straw-poll/
LOCATION:Virtual
ATTACH;FMTTYPE=image/jpeg:https://herndonrestonindivisible.org/wp-content/uploads/2020/12/huntermillstrawpollthin.jpg
END:VEVENT
BEGIN:VEVENT
DTSTART;TZID=America/New_York:20210107T180000
DTEND;TZID=America/New_York:20210107T210000
DTSTAMP:20260425T232554
CREATED:20201224T173121Z
LAST-MODIFIED:20210104T194205Z
UID:12962-1610042400-1610053200@herndonrestonindivisible.org
SUMMARY:COVID-19 and the Vaccine: Understanding the Virus and Building Trust
DESCRIPTION:Join Sean Perryman\, candidate for Lt. Governor of VA\, on January 7th at 6pm for a virtual conversation about the COVID-19 vaccine with Virginia community leaders and public health experts. As the vaccine begins to be distributed to Virginians over the coming months\, it’s crucial that we build trust in the vaccine based on science and empathy as we work to finally put an end to this trying pandemic.\nVideo conference link: bit.ly/JoinJan7\nModerated by:\nSean Perryman\, candidate for Lt. Governor of Virginia\nDr. Cameron Webb\, 2020 Democratic nominee for Virginia’s 5th congressional district\nWith guests:\nDr. Gloria Addo-Ayensu\, Fairfax County Director of Health\nTavorise Marks\, program manager for Governor’s COVID-19 Taskforce\nPartnered with:\nFairfax County NAACP\nCASA in Action
URL:https://herndonrestonindivisible.org/event/covid-19-and-the-vaccine-understanding-the-virus-and-building-trust/
LOCATION:Virtual
ATTACH;FMTTYPE=image/jpeg:https://herndonrestonindivisible.org/wp-content/uploads/2020/12/seanperrymancovidbuildingtrust.jpg
END:VEVENT
BEGIN:VEVENT
DTSTART;TZID=America/New_York:20210106T190000
DTEND;TZID=America/New_York:20210106T203000
DTSTAMP:20260425T232554
CREATED:20210106T184357Z
LAST-MODIFIED:20210106T184357Z
UID:13350-1609959600-1609965000@herndonrestonindivisible.org
SUMMARY:HRI Leader's Meeting
DESCRIPTION:
URL:https://herndonrestonindivisible.org/event/hri-leaders-meeting/
LOCATION:Virtual
ATTACH;FMTTYPE=image/jpeg:https://herndonrestonindivisible.org/wp-content/uploads/2017/07/leader.jpg
END:VEVENT
BEGIN:VEVENT
DTSTART;TZID=America/New_York:20210105T170000
DTEND;TZID=America/New_York:20210105T190000
DTSTAMP:20260425T232554
CREATED:20210104T234219Z
LAST-MODIFIED:20210104T234219Z
UID:13340-1609866000-1609873200@herndonrestonindivisible.org
SUMMARY:GOTV Phone Bank for Candi King (HD02) with Sean Perryman
DESCRIPTION:Join Sean Perryman to Phone Bank for Candi King\, Delegate Candidate for HD02 on Election Day\, Jan 5th at 5pm.\nWhile many of us are focused on Georgia\, there are two special elections here in Virginia.\n\n\nMake calls to get the last voters to the polls on Election Day.\nLink: bit.ly/JoinJan5
URL:https://herndonrestonindivisible.org/event/gotv-phone-bank-for-candi-king-hd02-with-sean-perryman/
LOCATION:Virtual
ATTACH;FMTTYPE=image/jpeg:https://herndonrestonindivisible.org/wp-content/uploads/2021/01/SPcandiking.jpg
END:VEVENT
BEGIN:VEVENT
DTSTART;TZID=America/New_York:20210104T190000
DTEND;TZID=America/New_York:20210104T210000
DTSTAMP:20260425T232554
CREATED:20210104T191531Z
LAST-MODIFIED:20210104T234329Z
UID:13334-1609786800-1609794000@herndonrestonindivisible.org
SUMMARY:GOTV Phone Bank for Angelia Williams Graves (HD90) w/ Sean Perryman
DESCRIPTION:Join Sean Perryman to Phone Bank for Angelia Williams Graves\, Delegate Candidate for HD90.\nWhile many of us are focused on Georgia\, there are two special elections here in Virginia.\n\n\nHere’s an opportunity tonight (1/4) to get involved and phone bank for tomorrow’s Jan 5th special election.\n\nRSVP: https://www.mobilize.us/angeliaforvadelegate/event/368084/ \n 
URL:https://herndonrestonindivisible.org/event/phone-bank-for-angelia-williams-graves-hd90-w-sean-perryman/
LOCATION:Zoom
ATTACH;FMTTYPE=image/jpeg:https://herndonrestonindivisible.org/wp-content/uploads/2021/01/seanperrymanhd90pb.jpg
END:VEVENT
BEGIN:VEVENT
DTSTART;TZID=America/New_York:20210103T130000
DTEND;TZID=America/New_York:20210103T150000
DTSTAMP:20260425T232554
CREATED:20201225T040609Z
LAST-MODIFIED:20201225T040609Z
UID:12988-1609678800-1609686000@herndonrestonindivisible.org
SUMMARY:New VA Majority: Lit Drop for Candi King's GOTV
DESCRIPTION:NO CONTACT volunteer opportunity to get out the vote for Candi King for VA State Delegate in the House District 2 special election!\n\n\nNew Virginia Majority will be “lit dropping” (leaving information on doors or in mailboxes) in Prince William County on Sunday 12/27 and 1/3 at 1PM.\n\n\nRSVP for more details: bit.ly/VA2LitDrop
URL:https://herndonrestonindivisible.org/event/new-va-majority-lit-drop-for-candi-kings-gotv-2/
ATTACH;FMTTYPE=image/png:https://herndonrestonindivisible.org/wp-content/uploads/2020/12/nvmcandikinglitdrop-e1608869137916.png
END:VEVENT
BEGIN:VEVENT
DTSTART;TZID=America/New_York:20201229T120000
DTEND;TZID=America/New_York:20201229T180000
DTSTAMP:20260425T232554
CREATED:20201224T182932Z
LAST-MODIFIED:20201224T183209Z
UID:12973-1609243200-1609264800@herndonrestonindivisible.org
SUMMARY:Georgia Runoff - DAILY - Remote Ballot Cure Phone Calls!
DESCRIPTION:GA Senate Runoff is January 5th. \nDaily\, make Ballot Cure Phone Calls with the GA Democrats. \nRSVP:  https://www.mobilize.us/dpgvoterprotection/event/362889/ \nAs a Ballot Rescue phone caller\, you’ll be in direct contact with Georgia voters to help them fix issues they face when trying to cast their vote\, including with their registration\, absentee ballot requests\, absentee ballots\, and provisional ballots. Every voter you contact is one whose vote may not be counted without your help! \nAnd we have other equally important calls for you to make! \n-URGENT NEED: Make calls to voters in counties with widespread delays issuing absentee ballots. Here is the link: https://tinyurl.com/GADemSpecialCure \n-Make calls to recruit cure canvassers to have the very conversations our cure callers are having with voters — but in person. Here is the link: https://tinyurl.com/GACanvassRecruitment. \n-Make Spanish-English bilingual calls to voters. Here is the link: https://www.mobilize.us/dpgvoterprotection/event/365423/. \n-Stay tuned for additional bilingual calling opportunities to protect the vote in all communities.
URL:https://herndonrestonindivisible.org/event/georgia-runoff-remote-ballot-cure-phone-calls/
LOCATION:Zoom
ATTACH;FMTTYPE=image/jpeg:https://herndonrestonindivisible.org/wp-content/uploads/2020/12/gademsballotcurecalls.jpg
END:VEVENT
BEGIN:VEVENT
DTSTART;TZID=America/New_York:20201227T130000
DTEND;TZID=America/New_York:20201227T150000
DTSTAMP:20260425T232554
CREATED:20201225T035934Z
LAST-MODIFIED:20201225T040809Z
UID:12985-1609074000-1609081200@herndonrestonindivisible.org
SUMMARY:New VA Majority: Lit Drop for Candi King's GOTV
DESCRIPTION:NO CONTACT volunteer opportunity to get out the vote for Candi King for VA State Delegate in the House District 2 special election!\n\n\nNew Virginia Majority will be “lit dropping” (leaving information on doors or in mailboxes) in Prince William County on Sunday 12/27 and 1/3 at 1PM.\n\n\nRSVP for more details: bit.ly/VA2LitDrop
URL:https://herndonrestonindivisible.org/event/new-va-majority-lit-drop-for-candi-kings-gotv/
ATTACH;FMTTYPE=image/png:https://herndonrestonindivisible.org/wp-content/uploads/2020/12/nvmcandikinglitdrop-e1608869137916.png
END:VEVENT
BEGIN:VEVENT
DTSTART;TZID=America/New_York:20201227T120000
DTEND;TZID=America/New_York:20201227T160000
DTSTAMP:20260425T232554
CREATED:20201224T183755Z
LAST-MODIFIED:20201224T183755Z
UID:12978-1609070400-1609084800@herndonrestonindivisible.org
SUMMARY:Call Voters for Candi King for Delegate!
DESCRIPTION:Candi King for Delegate in VA House District 02. \nRSVP for Phone Bank: https://www.mobilize.us/mobilize/event/367517/ \nHelp Team Candi King call voters and build power so we can elect Candi King to the House of Delegates\, representing Virginia’s 2nd District! \nCandi is the voice we need to fight for ALL of us in Richmond\, so let’s fight for her and let voters know about the Special Election coming up on January 5th! \nLogin information will be sent out early in the morning of the event. \nSign-Up to connect with Candi King’s campaign ==> HERE \n 
URL:https://herndonrestonindivisible.org/event/call-voters-for-candi-king-for-delegate-2/
LOCATION:Virtual
ATTACH;FMTTYPE=image/jpeg:https://herndonrestonindivisible.org/wp-content/uploads/2020/12/candikingvpb.jpg
END:VEVENT
BEGIN:VEVENT
DTSTART;TZID=America/New_York:20201226T090000
DTEND;TZID=America/New_York:20201226T170000
DTSTAMP:20260425T232554
CREATED:20201224T165309Z
LAST-MODIFIED:20201224T165309Z
UID:12958-1608973200-1609002000@herndonrestonindivisible.org
SUMMARY:Call Voters for Candi King for Delegate!
DESCRIPTION:Help us call voters and build power so we can elect Candi King to the House of Delegates\, representing Virginia’s 2nd District! \nCandi is the voice we need to fight for ALL of us in Richmond\, so let’s fight for her and let voters know about the Special Election coming up on January 5th! \nLogin information will be sent out early on the morning of the event. \nRSVP: https://www.mobilize.us/mobilize/event/367517/ \n 
URL:https://herndonrestonindivisible.org/event/call-voters-for-candi-king-for-delegate/
LOCATION:Virtual
ATTACH;FMTTYPE=image/jpeg:https://herndonrestonindivisible.org/wp-content/uploads/2020/12/candikingvpb.jpg
END:VEVENT
BEGIN:VEVENT
DTSTART;TZID=America/New_York:20201218T123000
DTEND;TZID=America/New_York:20201218T133000
DTSTAMP:20260425T232554
CREATED:20201217T171014Z
LAST-MODIFIED:20201217T172902Z
UID:12943-1608294600-1608298200@herndonrestonindivisible.org
SUMMARY:Women's Issue Group Meeting: Delegate Wendy Gooditis
DESCRIPTION:Please join the HRI Women’s Issues Group   \nWith Special Guest   \nDelegate Wendy Gooditis   \nIt is imperative that as the General Assembly reconvenes in January\, the needs of Virginian women and their families be prioritized and legislation striving toward a gender-equitable recovery benefitting all be enacted. \nJoin us for an open discussion of legislation concerning women’s issues that are sponsored or supported by the Delegate and learn how we can assist. \nPlease RSVP at sharonwunder@hotmail.com
URL:https://herndonrestonindivisible.org/event/womens-issue-group-meeting-delegate-wendy-gooditis/
LOCATION:Zoom
ATTACH;FMTTYPE=image/jpeg:https://herndonrestonindivisible.org/wp-content/uploads/2020/12/wendygooditissnipwig.jpg
END:VEVENT
BEGIN:VEVENT
DTSTART;TZID=America/New_York:20201217T190000
DTEND;TZID=America/New_York:20201217T203000
DTSTAMP:20260425T232554
CREATED:20201217T165712Z
LAST-MODIFIED:20201217T165806Z
UID:12939-1608231600-1608237000@herndonrestonindivisible.org
SUMMARY:Extinction Rebellion DC: Climate Crisis Presentation
DESCRIPTION:We are in the midst of the sixth mass extinction\, and global heating is quickly getting out of control. Scientists say what’s required to avoid the existential threat of climate\, and ecological collapse is rapid and unprecedented changes in all aspects of society. Understanding the science behind these dual crises is crucial to understanding why we need to immediately take radical action. \nJoin members of Extinction Rebellion DC for a presentation on the latest climate science\, a discussion on some of the current psychology around climate change and ecological breakdown\, and why we need courage\, not hope\, to avert catastrophe. \nEveryone is welcome\, and there will be time to ask questions and reflect afterward. Whether you’re on the fence about climate action\, a new rebel looking to learn more\, want to get plugged into XR DC\, or just curious about XR\, this talk is the perfect event for you! \n 
URL:https://herndonrestonindivisible.org/event/extinction-rebellion-dc-climate-crisis-presentation/
ATTACH;FMTTYPE=image/jpeg:https://herndonrestonindivisible.org/wp-content/uploads/2020/12/climagechangehp.jpg
END:VEVENT
BEGIN:VEVENT
DTSTART;TZID=America/New_York:20201216T030000
DTEND;TZID=America/New_York:20201216T120000
DTSTAMP:20260425T232554
CREATED:20200705T131242Z
LAST-MODIFIED:20200705T131242Z
UID:12322-1608087600-1608120000@herndonrestonindivisible.org
SUMMARY:HRI Leader's Meeting
DESCRIPTION:
URL:https://herndonrestonindivisible.org/event/hri-leaders-meeting-19/
ATTACH;FMTTYPE=image/jpeg:https://herndonrestonindivisible.org/wp-content/uploads/2017/07/leader.jpg
END:VEVENT
BEGIN:VEVENT
DTSTART;TZID=America/New_York:20201118T140000
DTEND;TZID=America/New_York:20201118T153000
DTSTAMP:20260425T232554
CREATED:20200705T130824Z
LAST-MODIFIED:20200705T130824Z
UID:12320-1605708000-1605713400@herndonrestonindivisible.org
SUMMARY:HRI Leader's Meeting
DESCRIPTION:
URL:https://herndonrestonindivisible.org/event/hri-leaders-meeting-18/
ATTACH;FMTTYPE=image/jpeg:https://herndonrestonindivisible.org/wp-content/uploads/2017/07/leader.jpg
END:VEVENT
BEGIN:VEVENT
DTSTART;TZID=America/New_York:20201103T060000
DTEND;TZID=America/New_York:20201103T190000
DTSTAMP:20260425T232554
CREATED:20210209T110152Z
LAST-MODIFIED:20210209T110152Z
UID:13556-1604383200-1604430000@herndonrestonindivisible.org
SUMMARY:November General Election
DESCRIPTION:
URL:https://herndonrestonindivisible.org/event/november-general-election/
LOCATION:Polling Location
END:VEVENT
BEGIN:VEVENT
DTSTART;TZID=America/New_York:20201028T150000
DTEND;TZID=America/New_York:20201028T163000
DTSTAMP:20260425T232554
CREATED:20200705T130148Z
LAST-MODIFIED:20200705T130325Z
UID:12318-1603897200-1603902600@herndonrestonindivisible.org
SUMMARY:HRI Leaders Meeting
DESCRIPTION:
URL:https://herndonrestonindivisible.org/event/hri-leaders-meeting-17/
ATTACH;FMTTYPE=image/jpeg:https://herndonrestonindivisible.org/wp-content/uploads/2017/07/leader.jpg
END:VEVENT
BEGIN:VEVENT
DTSTART;TZID=America/New_York:20201020T183000
DTEND;TZID=America/New_York:20201020T200000
DTSTAMP:20260425T232554
CREATED:20200705T132702Z
LAST-MODIFIED:20201008T014350Z
UID:12329-1603218600-1603224000@herndonrestonindivisible.org
SUMMARY:HRI General Meeting: Congressman Gerry Connolly
DESCRIPTION:Tuesday\, Oct 20th is our monthly Herndon-Reston Indivisible meeting — last meeting before the November 3rd election. Congressman Gerry Connolly will be our guest speaker. Meeting begins promptly at 6:30pm on Zoom.\nCome join us to hear about happenings on Capitol Hill from Congressman Connolly.
URL:https://herndonrestonindivisible.org/event/hri-general-meeting-25/
ATTACH;FMTTYPE=image/jpeg:https://herndonrestonindivisible.org/wp-content/uploads/2020/07/hrigeneralmeetingplain2.jpg
END:VEVENT
BEGIN:VEVENT
DTSTART;TZID=America/New_York:20200923T190000
DTEND;TZID=America/New_York:20200923T203000
DTSTAMP:20260425T232554
CREATED:20200705T125815Z
LAST-MODIFIED:20200914T131133Z
UID:12316-1600887600-1600893000@herndonrestonindivisible.org
SUMMARY:HRI Leader's Meeting
DESCRIPTION:
URL:https://herndonrestonindivisible.org/event/hri-leaders-meeting-16/
ATTACH;FMTTYPE=image/jpeg:https://herndonrestonindivisible.org/wp-content/uploads/2017/07/leader.jpg
END:VEVENT
BEGIN:VEVENT
DTSTART;TZID=America/New_York:20200917T190000
DTEND;TZID=America/New_York:20200917T203000
DTSTAMP:20260425T232554
CREATED:20200829T124758Z
LAST-MODIFIED:20200829T124758Z
UID:12498-1600369200-1600374600@herndonrestonindivisible.org
SUMMARY:HRI Science & Environment Group Meeting
DESCRIPTION:Contact: hri.env.sci@gmail.com for details.
URL:https://herndonrestonindivisible.org/event/hri-science-environment-group-meeting-13/
ATTACH;FMTTYPE=image/jpeg:https://herndonrestonindivisible.org/wp-content/uploads/2017/11/largeplanet.jpg
END:VEVENT
BEGIN:VEVENT
DTSTART;TZID=America/New_York:20200917T170000
DTEND;TZID=America/New_York:20200917T193000
DTSTAMP:20260425T232554
CREATED:20200829T125016Z
LAST-MODIFIED:20200829T125016Z
UID:12500-1600362000-1600371000@herndonrestonindivisible.org
SUMMARY:Thursday Evening Phone Bank
DESCRIPTION:Join HRI\, Hunter Mill Democrats & Vienna Postcard Group for our weekly Thursday Phone Bank between 5pm-8pm via Zoom . \nRSVP: https://www.mobilize.us/huntermilldems/event/285405/ \nContact: herndonrestonindivisible@gmail.com with any questions.
URL:https://herndonrestonindivisible.org/event/thursday-evening-phone-bank-3/
ATTACH;FMTTYPE=image/jpeg:https://herndonrestonindivisible.org/wp-content/uploads/2020/07/thursdayeveningpb.jpg
END:VEVENT
BEGIN:VEVENT
DTSTART;TZID=America/New_York:20200915T183000
DTEND;TZID=America/New_York:20200915T203000
DTSTAMP:20260425T232554
CREATED:20200705T132454Z
LAST-MODIFIED:20200914T130749Z
UID:12327-1600194600-1600201800@herndonrestonindivisible.org
SUMMARY:HRI General Meeting: Tram Nguyen
DESCRIPTION:Join HRI via Zoom at 6:30pm for our September General meeting. Tram Nguyen\, co-Executive Director\, of New Virginia Majority will join us to discuss the elections changes that resulted from the General Assembly Special Session. How do these changes impact our ability to vote safely during the pandemic? Join the discussion\, come with questions.\nNew Virginia Majority works to build a bloc of voters to advance policies that are democratic\, sustainable and just. Most recently HRI has worked with NVM to write postcards to VA residents to encourage them to fill out the Census.\n\nContact: herndonrestonindivisible@gmail.com for details &/or to submit a question for Tram Nguyen. \n\n\n 
URL:https://herndonrestonindivisible.org/event/hri-general-meeting-24/
ATTACH;FMTTYPE=image/jpeg:https://herndonrestonindivisible.org/wp-content/uploads/2020/07/hrigeneralmeetingplain2.jpg
END:VEVENT
BEGIN:VEVENT
DTSTART;TZID=America/New_York:20200914T100000
DTEND;TZID=America/New_York:20200914T110000
DTSTAMP:20260425T232554
CREATED:20200914T132749Z
LAST-MODIFIED:20200914T132749Z
UID:12783-1600077600-1600081200@herndonrestonindivisible.org
SUMMARY:GVP Protest / Vigil at NRA Headquarters
DESCRIPTION:
URL:https://herndonrestonindivisible.org/event/gvp-protest-vigil-at-nra-headquarters/
LOCATION:NRA Headquarters\, 11250 Waples Mill Rd\, Fairfax\, VA\, 22030
END:VEVENT
BEGIN:VEVENT
DTSTART;TZID=America/New_York:20200910T170000
DTEND;TZID=America/New_York:20200910T193000
DTSTAMP:20260425T232554
CREATED:20200829T045905Z
LAST-MODIFIED:20200829T050139Z
UID:12493-1599757200-1599766200@herndonrestonindivisible.org
SUMMARY:Thursday Evening Phone Bank: Generational Challenge
DESCRIPTION:Join Persist Fairfax\, HRI\, and the Hunter Mill Dems for a Generational Challenge for Elaine Luria (VA CD02) \nThursday Phone Bank\, 9/10 between 5pm-7:30pm via Zoom . \nLuria’s race is considered one of the toughest in the the country according to Cooke Political report. So we will be texting and calling voters to tell them how they can safely vote for Elaine Luria before Nov 3rd. \nRSVP: https://www.mobilize.us/huntermilldems/event/285405/ \nContact: herndonrestonindivisible@gmail.com with any questions.
URL:https://herndonrestonindivisible.org/event/thursday-evening-phone-bank-generational-challenge/
ATTACH;FMTTYPE=image/png:https://herndonrestonindivisible.org/wp-content/uploads/2020/08/Screenshot_2020-08-29-Generational1.png
END:VEVENT
END:VCALENDAR