BEGIN:VCALENDAR
VERSION:2.0
PRODID:-//Herndon Reston Indivisible - ECPv6.15.20//NONSGML v1.0//EN
CALSCALE:GREGORIAN
METHOD:PUBLISH
X-WR-CALNAME:Herndon Reston Indivisible
X-ORIGINAL-URL:https://herndonrestonindivisible.org
X-WR-CALDESC:Events for Herndon Reston Indivisible
REFRESH-INTERVAL;VALUE=DURATION:PT1H
X-Robots-Tag:noindex
X-PUBLISHED-TTL:PT1H
BEGIN:VTIMEZONE
TZID:America/New_York
BEGIN:DAYLIGHT
TZOFFSETFROM:-0500
TZOFFSETTO:-0400
TZNAME:EDT
DTSTART:20200308T070000
END:DAYLIGHT
BEGIN:STANDARD
TZOFFSETFROM:-0400
TZOFFSETTO:-0500
TZNAME:EST
DTSTART:20201101T060000
END:STANDARD
BEGIN:DAYLIGHT
TZOFFSETFROM:-0500
TZOFFSETTO:-0400
TZNAME:EDT
DTSTART:20210314T070000
END:DAYLIGHT
BEGIN:STANDARD
TZOFFSETFROM:-0400
TZOFFSETTO:-0500
TZNAME:EST
DTSTART:20211107T060000
END:STANDARD
BEGIN:DAYLIGHT
TZOFFSETFROM:-0500
TZOFFSETTO:-0400
TZNAME:EDT
DTSTART:20220313T070000
END:DAYLIGHT
BEGIN:STANDARD
TZOFFSETFROM:-0400
TZOFFSETTO:-0500
TZNAME:EST
DTSTART:20221106T060000
END:STANDARD
END:VTIMEZONE
BEGIN:VEVENT
DTSTART;TZID=America/New_York:20210511T110000
DTEND;TZID=America/New_York:20210511T120000
DTSTAMP:20260425T153255
CREATED:20210507T204237Z
LAST-MODIFIED:20210507T204237Z
UID:13795-1620730800-1620734400@herndonrestonindivisible.org
SUMMARY:Lobby Tuesday w/ Senator Warner's Staff
DESCRIPTION:Monthly Warner Lobby\nYour chance to let Senator Warner know what you think. Everyone has a chance to talk (if they want). Staffers pass on your asks to the Senator.\nRegister for Zoom link: https://novagrassroots.org/event-warner-lobby.php
URL:https://herndonrestonindivisible.org/event/lobby-tuesday-w-senator-warners-staff/
LOCATION:Zoom
ATTACH;FMTTYPE=image/jpeg:https://herndonrestonindivisible.org/wp-content/uploads/2021/05/warnertuesmay11.jpg
END:VEVENT
BEGIN:VEVENT
DTSTART;TZID=America/New_York:20210508T140000
DTEND;TZID=America/New_York:20210508T150000
DTSTAMP:20260425T153255
CREATED:20210429T234031Z
LAST-MODIFIED:20210429T234031Z
UID:13768-1620482400-1620486000@herndonrestonindivisible.org
SUMMARY:2021 Virtual Mother's Day Climate Rally!
DESCRIPTION:Saturday\, May 8th from 2pm-3pm\n2021 Virtual Mother’s Day Climate Rally!\nJoin us for the 5th Annual Mother’s Day Climate Rally — the virtual edition. We’re rallying for the planet\, clean energy\, a healthy climate\, and a healthy future. Mother’s Day was originally a day of political activism\, so we’re returning to those activist roots. We are determined to protect the climate for our children\, our children’s children\, and all future generations.\nRSVP: https://actionnetwork.org/…/5th-annual-virtual-mothers…\nAfter you RSVP\, you’ll receive an email with instructions for joining the event online closer to the date!\nWe have an incredible lineup of speakers:\nWENONAH HAUTER\, Founder and Executive Director of Food & Water Watch. Wenonah has three decades of experience campaigning and writing on food\, water\, energy\, and environmental issues.\nBILL MCKIBBEN\, author of over a dozen books\, educator\, environmentalist and founder of 350.org. His 1989 book “The End of Nature” is regarded as the first book for a general audience about climate change and has appeared in 24 languages.\nHARRIET SHUGARMAN\, author of “How to Talk to Your Kids About Climate Change: Turning Angst into Action.” She is also the Executive Director of ClimateMama and a professor of Global Climate Change Policy and World Sustainability.\nJEROME FOSTER II\, 18-years-old activist that serves at the White House Environmental Justice Advisory Council\, works as Executive Director of OneMillionOfUs\, and studies Computer Science in New York City.\nFINN FISK\, co-hub coordinator of Sunrise Richmond and is a leader for Sunrise Virginial. Works as a paralegal at Central Virginia Legal Aid Society. Incoming MS Student in Socio-Ecological Economics and Policy at the Vienna University of Economics and Business in the fall of 2021.\nNew Mother’s Day Proclamation by an organizational leader\nMusic by SUN-SiNG Collective\nA children’s story time will round out the program.
URL:https://herndonrestonindivisible.org/event/2021-virtual-mothers-day-climate-rally/
LOCATION:Zoom
ATTACH;FMTTYPE=image/jpeg:https://herndonrestonindivisible.org/wp-content/uploads/2021/04/mothersdayrally.jpg
END:VEVENT
BEGIN:VEVENT
DTSTART;TZID=America/New_York:20210508T080000
DTEND;TZID=America/New_York:20210508T170000
DTSTAMP:20260425T153255
CREATED:20210507T222547Z
LAST-MODIFIED:20210507T222547Z
UID:13799-1620460800-1620493200@herndonrestonindivisible.org
SUMMARY:National John Lewis Voting Rights Advancement Action Day
DESCRIPTION:Urge friends and relatives to Write/Call their Senators in support of the For the People Act:\nCall 1.888.453.3211 to connect U.S. Senators\nhttps://dfadcoalition.org/takeaction/\n#ForThePeopleAct #FreedomtoVote
URL:https://herndonrestonindivisible.org/event/national-john-lewis-voting-rights-advancement-action-day/
ATTACH;FMTTYPE=image/jpeg:https://herndonrestonindivisible.org/wp-content/uploads/2021/05/johnlewisvotingrights.jpg
END:VEVENT
BEGIN:VEVENT
DTSTART;TZID=America/New_York:20210507T100000
DTEND;TZID=America/New_York:20210507T120000
DTSTAMP:20260425T153255
CREATED:20210507T004136Z
LAST-MODIFIED:20210507T004136Z
UID:13791-1620381600-1620388800@herndonrestonindivisible.org
SUMMARY:HRI Resistance Writers
DESCRIPTION:Contact herndonrestonindivisible@gmail.com for details and zoom link.
URL:https://herndonrestonindivisible.org/event/hri-resistance-writers-14/
LOCATION:Zoom
ATTACH;FMTTYPE=image/jpeg:https://herndonrestonindivisible.org/wp-content/uploads/2017/11/resistancewritersfriday.jpg
END:VEVENT
BEGIN:VEVENT
DTSTART;TZID=America/New_York:20210506T190000
DTEND;TZID=America/New_York:20210506T203000
DTSTAMP:20260425T153255
CREATED:20210506T204038Z
LAST-MODIFIED:20210506T204238Z
UID:13783-1620327600-1620333000@herndonrestonindivisible.org
SUMMARY:Fairfax County Community Input Session with Chief Davis
DESCRIPTION:From Supervisory Rodney Lusk:\nThursday at 7:00 PM is your chance to meet and ask Chief Davis your questions about his new role as our Chief of Police. Sign up to speak ahead of time by emailing clerktotheBOS@fairfaxcounty.gov.\n\n\nYou may also call 703-324-1020 at the time of the program to participate.\n\n\nThe hiring process and background of Kevin Davis as Fairfax County Chief of Police raises community concerns:\nFairfax NAACP President\, Karen Campblin’s Statement on Fairfax County Police Chief ==> HERE\n\n\nWatch this program live at:\nFacebook: https://www.facebook.com/Supervisorlusk/\nor\nChannel 16 Live Video Stream at: bit.ly/2PN9d2z
URL:https://herndonrestonindivisible.org/event/fairfax-county-community-input-session-with-chief-davis/
LOCATION:Facebook Live
ATTACH;FMTTYPE=image/jpeg:https://herndonrestonindivisible.org/wp-content/uploads/2021/05/fairfaxcountychiefdavis.jpg
END:VEVENT
BEGIN:VEVENT
DTSTART;TZID=America/New_York:20210506T180000
DTEND;TZID=America/New_York:20210506T190000
DTSTAMP:20260425T153255
CREATED:20210506T203209Z
LAST-MODIFIED:20210506T203342Z
UID:13778-1620324000-1620327600@herndonrestonindivisible.org
SUMMARY:Arc of NoVA Candidate Forum Series (HD34/86) on Developmental Disabilities Issues
DESCRIPTION:Candidates for the Democratic nomination in the 34th and 86th districts will be participating in a 2021 Virginia Candidate Forum Series on Developmental Disabilities Issues hosted by The Arc of Northern Virginia and Autism NOVA \nRegister here if you are interested in attending: \nhttps://zoom.us/webinar/register/WN_L73UcEpGQbuZO1YykjLJkg
URL:https://herndonrestonindivisible.org/event/arc-of-nova-candidate-forum-series-on-developmental-disabilities-issues-hd34-86/
LOCATION:Zoom
ATTACH;FMTTYPE=image/jpeg:https://herndonrestonindivisible.org/wp-content/uploads/2021/05/arcofnova.jpg
END:VEVENT
BEGIN:VEVENT
DTSTART;TZID=America/New_York:20210423T100000
DTEND;TZID=America/New_York:20210423T120000
DTSTAMP:20260425T153255
CREATED:20210328T134420Z
LAST-MODIFIED:20210328T134420Z
UID:13704-1619172000-1619179200@herndonrestonindivisible.org
SUMMARY:HRI Resistance Writers
DESCRIPTION:Contact: herndonrestonindivisible@gmail.com for details.
URL:https://herndonrestonindivisible.org/event/hri-resistance-writers-13/
LOCATION:Zoom
ATTACH;FMTTYPE=image/jpeg:https://herndonrestonindivisible.org/wp-content/uploads/2017/11/resistancewritersfriday.jpg
END:VEVENT
BEGIN:VEVENT
DTSTART;TZID=America/New_York:20210420T080000
DTEND;TZID=America/New_York:20210420T170000
DTSTAMP:20260425T153255
CREATED:20210207T215328Z
LAST-MODIFIED:20210207T215328Z
UID:13518-1618905600-1618938000@herndonrestonindivisible.org
SUMMARY:HRI General Meeting
DESCRIPTION:Contact: herndonrestonindivisible@gmail.com for details.
URL:https://herndonrestonindivisible.org/event/hri-general-meeting-3/
LOCATION:Zoom
ATTACH;FMTTYPE=image/png:https://herndonrestonindivisible.org/wp-content/uploads/2021/02/hrigeneralmeetingfebsnip1.png
END:VEVENT
BEGIN:VEVENT
DTSTART;TZID=America/New_York:20210416T080000
DTEND;TZID=America/New_York:20210416T170000
DTSTAMP:20260425T153255
CREATED:20210327T053447Z
LAST-MODIFIED:20210327T053447Z
UID:13699-1618560000-1618592400@herndonrestonindivisible.org
SUMMARY:Emancipation Day
DESCRIPTION:
URL:https://herndonrestonindivisible.org/event/emancipation-day/
END:VEVENT
BEGIN:VEVENT
DTSTART;TZID=America/New_York:20210414T100000
DTEND;TZID=America/New_York:20210414T110000
DTSTAMP:20260425T153255
CREATED:20210409T162711Z
LAST-MODIFIED:20210409T162711Z
UID:13754-1618394400-1618398000@herndonrestonindivisible.org
SUMMARY:NRA Monthly Protest/Vigil
DESCRIPTION:Join the 100th consecutive monthly protest at the NRA on Wednesday\, April 14th\, at 10:00 AM. There will be speakers and a Celebration of the Biden-Harris Administration’s actions to address the gun violence public health epidemic.
URL:https://herndonrestonindivisible.org/event/nra-monthly-protest-vigil-2/
LOCATION:NRA Headquarters\, 11250 Waples Mill Rd\, Fairfax\, VA\, 22030
ATTACH;FMTTYPE=image/png:https://herndonrestonindivisible.org/wp-content/uploads/2021/04/gunreformnow.png
END:VEVENT
BEGIN:VEVENT
DTSTART;TZID=America/New_York:20210409T100000
DTEND;TZID=America/New_York:20210409T120000
DTSTAMP:20260425T153255
CREATED:20210328T134106Z
LAST-MODIFIED:20210328T134539Z
UID:13702-1617962400-1617969600@herndonrestonindivisible.org
SUMMARY:HRI Resistance Writers
DESCRIPTION:Contact: herndonrestonindivisible@gmail.com for details.
URL:https://herndonrestonindivisible.org/event/hri-resistance-writers-12/
LOCATION:Zoom
ATTACH;FMTTYPE=image/jpeg:https://herndonrestonindivisible.org/wp-content/uploads/2017/11/resistancewritersfriday.jpg
END:VEVENT
BEGIN:VEVENT
DTSTART;TZID=America/New_York:20210407T170000
DTEND;TZID=America/New_York:20210407T180000
DTSTAMP:20260425T153255
CREATED:20210325T155424Z
LAST-MODIFIED:20210325T155424Z
UID:13660-1617814800-1617818400@herndonrestonindivisible.org
SUMMARY:Sister District Project's Virtual State Bridges Series w/ New Virginia Majority
DESCRIPTION:Building on the successes in Arizona and Georgia in 2020\, we know that long-term community-based organizing\, often led by people of color\, is bedrock for our ability to build progressive power in state legislatures. \nThrough August\, each of Sister District’s twice-monthly State Bridges events will focus on one of our partner organizations doing year-round power-building work in key states! \nPlease join us to get to know and support these organizations & hear from their extraordinary leaders. \nRSVP: https://www.mobilize.us/sisterdistrict/event/377479/ \nSister District’s State Bridges Upcoming Events \nApril 7 — New Virginia Majority with Tram Nguyen\, co-Executive Director \nApril 29 — Texas Organizing Project with Michelle Tremillo\, Executive Director; Brianna Brown\, Deputy Director; and Crystal Zermeno\, Electoral Strategy Director \nMay 19 — Florida Rising with Andrea Mercado\, co-Executive Director \nJune 1 — Living United for Change in Arizona (LUCHA) with Tomas Robles and Alejandra Gomez\, co-Executive Directors \nAll events begin 5pm PT / 8pm ET by Zoom and last 45mins unless otherwise indicated. Additional dates will be added\, so please check back and sign up for more events!
URL:https://herndonrestonindivisible.org/event/sister-district-projects-virtual-state-bridges-series-w-new-virginia-majority/
LOCATION:Virtual
ATTACH;FMTTYPE=image/jpeg:https://herndonrestonindivisible.org/wp-content/uploads/2021/03/sdpbridgesapril7.jpg
END:VEVENT
BEGIN:VEVENT
DTSTART;TZID=America/New_York:20210402T100000
DTEND;TZID=America/New_York:20210402T120000
DTSTAMP:20260425T153255
CREATED:20210327T053309Z
LAST-MODIFIED:20210327T053309Z
UID:13697-1617357600-1617364800@herndonrestonindivisible.org
SUMMARY:HRI Resistance Writers
DESCRIPTION:  \nContact: herndonrestonindivisible@gmail.com for details.
URL:https://herndonrestonindivisible.org/event/hri-resistance-writers-11/
LOCATION:Zoom
ATTACH;FMTTYPE=image/jpeg:https://herndonrestonindivisible.org/wp-content/uploads/2017/11/resistancewritersfriday.jpg
END:VEVENT
BEGIN:VEVENT
DTSTART;TZID=America/New_York:20210401T170000
DTEND;TZID=America/New_York:20210401T180000
DTSTAMP:20260425T153255
CREATED:20210325T152115Z
LAST-MODIFIED:20210325T160029Z
UID:13652-1617296400-1617300000@herndonrestonindivisible.org
SUMMARY:Sean Perryman Meet & Greet w/ Host Sharon Canner
DESCRIPTION:Join host Sharon Canner for a Virtual Meet & Greet with Sean Perryman for Lt. Governor. \nSome of you are familiar with Sean’s background fighting for equity\, fairness\, and transparency in government. He is the youngest president in the 102-year history of the Fairfax County NAACP–the largest chapter in Virginia. As president\, Sean was active in addressing issues of racism in Virginia public schools. He led the advocacy effort toward renaming Robert E. Lee High School in Springfield\, Virginia to the John R. Lewis High School. He has been a leader on addressing the school to prison pipeline\, affordable housing\, and worker protections during the coronavirus pandemic. \nRSVP/Register\, click the Zoom link: \nhttps://zoom.us/meeting/register/tJ0vf–vrDsrGdJHQqND6n36aLokQUZ3yOml \n  \n 
URL:https://herndonrestonindivisible.org/event/sean-perryman-meet-greet-host-sharon-canner/
LOCATION:Zoom
ATTACH;FMTTYPE=image/jpeg:https://herndonrestonindivisible.org/wp-content/uploads/2021/03/perrymancannermgapril1.jpg
END:VEVENT
BEGIN:VEVENT
DTSTART;TZID=America/New_York:20210331T180000
DTEND;TZID=America/New_York:20210331T190000
DTSTAMP:20260425T153255
CREATED:20210325T153104Z
LAST-MODIFIED:20210325T153104Z
UID:13656-1617213600-1617217200@herndonrestonindivisible.org
SUMMARY:Virtual Fundraiser for Jay Jones w/ Ralph Northam & Elaine Luria
DESCRIPTION:Please join Gov. Ralph Northam and Rep. Elaine Luria for a socially distanced Zoom gathering with Delegate Jay Jones\, Candidate for Attorney General \nWednesday\, March 31 at 6:00 \nZoom information will be shared 24 hours prior to the event. \nRSVP: https://secure.actblue.com/donate/jay-jones-march31 \nMail: Jay Jones for Attorney General\, PO Box 932\, Richmond\, VA 23218
URL:https://herndonrestonindivisible.org/event/virtual-fundraiser-for-jay-jones-w-ralph-northam-elaine-luria/
LOCATION:Zoom
ATTACH;FMTTYPE=image/jpeg:https://herndonrestonindivisible.org/wp-content/uploads/2021/03/jayjonesmarch31.jpg
END:VEVENT
BEGIN:VEVENT
DTSTART;TZID=America/New_York:20210331T180000
DTEND;TZID=America/New_York:20210331T190000
DTSTAMP:20260425T153255
CREATED:20210323T154918Z
LAST-MODIFIED:20210323T154918Z
UID:13644-1617213600-1617217200@herndonrestonindivisible.org
SUMMARY:Mark Herring Virtual Reston Campaign Event
DESCRIPTION:Recently\, Attorney General Mark Herring spoke at the Herndon-Reston Indivisible (HRI) meeting and gave a very impressive summary of his progressive accomplishments as Virginia’s Attorney General.  As “The People’s Lawyer of Virginia\,” Mark led other Attorneys General across the nation on racial\, criminal and social justice reform\, marriage equality and women’s health\, while fighting Trump’s attacks on health care\, immigration and  justice reform.  What is most impressive is that Mark spoke about these complex issues from his actual experience and accomplishments\, not as just a wish list.  With so much at stake\, such as voter’s rights\, justice reform and democracy itself\, the battle hardened leadership that Mark has demonstrated is essential for the preservation of our values. \nJoin hosts\, Renette and Ron Oklewicz at the Reston Zoom virtual event in support of Mark Herring on March 31st.  Joining Attorney General  Mark Herring will be special guests:  Congressman Gerry Connolly\, Senator Jennifer Boysko\, and Delegate Ken Plum. \nFor the Zoom link\, please RSVP to: Events@Herringforag.com or call 804-362-7849.  Tickets may be purchased by contributing through this link: \nhttps://secure.actblue.com/donate/herring-reston
URL:https://herndonrestonindivisible.org/event/mark-herring-virtual-reston-campaign-event/
LOCATION:Zoom
END:VEVENT
BEGIN:VEVENT
DTSTART;TZID=America/New_York:20210330T190000
DTEND;TZID=America/New_York:20210330T200000
DTSTAMP:20260425T153255
CREATED:20210323T145120Z
LAST-MODIFIED:20210323T145223Z
UID:13637-1617130800-1617134400@herndonrestonindivisible.org
SUMMARY:Wendy Gooditis Campaign Kick-Off w/ Jennifer Wexton
DESCRIPTION:Join Wendy Gooditis to virtually kick-off her 2021 re-election campaign\nWith Special Guest Congresswoman Jennifer Wexton\nTuesday\, March 30th 7:00 PM\nZoom link will be sent upon RSVP:\nhttps://secure.actblue.com/donate/gooditiscampaignkickoff
URL:https://herndonrestonindivisible.org/event/wendy-gooditis-campaign-kick-off-w-jennifer-wexton/
LOCATION:Zoom
ATTACH;FMTTYPE=image/jpeg:https://herndonrestonindivisible.org/wp-content/uploads/2021/03/wendygooditishd10.jpg
END:VEVENT
BEGIN:VEVENT
DTSTART;TZID=America/New_York:20210329T190000
DTEND;TZID=America/New_York:20210329T203000
DTSTAMP:20260425T153255
CREATED:20210323T143130Z
LAST-MODIFIED:20210323T153629Z
UID:13632-1617044400-1617049800@herndonrestonindivisible.org
SUMMARY:VA Young Democrats Lt Gov Forum Night 2
DESCRIPTION:With the number of great Dems running for office in 2021\, VAYD has decided to host a series of virtual forums to help young people get to know the candidates. We are hosting an event for each statewide office: Lieutenant Governor\, Governor and Attorney General. \nNight 2 for Lieutenant Governor candidates will have Elizabeth Guzman\, Andria McClellan\, Sean Perryman and Paul Goldman. \nRSVP: https://zoom.us/webinar/register/WN_njzzFrGdRna42lCfJ3r10w?fbclid=IwAR0lv92f7R6JTJfZTs0J_H9ckNmRpdFvvImkNdZvCizbu88KWUgSolSbMrE \nThe full schedule of events is as follows:\nMarch 24 @ 7 pm – LG Night One\nMarch 29 @ 7 pm – LG Night Two\nApril 3 @ 5 pm – Governor Candidates\nApril 8 @ 7 pm – Attorney General Candidates \nQuestions for the candidates can be submitted by VAYD Members at https://forms.gle/ynyTNLoXWVfytcpJ6
URL:https://herndonrestonindivisible.org/event/vayd-lt-governor-forum-2/
LOCATION:Zoom
ATTACH;FMTTYPE=image/png:https://herndonrestonindivisible.org/wp-content/uploads/2021/03/vaydlgforum2.png
END:VEVENT
BEGIN:VEVENT
DTSTART;TZID=America/New_York:20210327T170000
DTEND;TZID=America/New_York:20210327T180000
DTSTAMP:20260425T153255
CREATED:20210323T141110Z
LAST-MODIFIED:20210323T142042Z
UID:13623-1616864400-1616868000@herndonrestonindivisible.org
SUMMARY:Paul Siker for HD33 Campaign Kick-Off w/ Mark Herring
DESCRIPTION:Democrat Paul Siker is running against Dave LaRock for House District 33. Can Paul Siker oust extremist\, insurrectionist Dave LaRock this year? Let’s hope this district is finally ready to flip blue and elect Paul Siker.\nSaturday\, March 27th at 5pm\nPaul Siker Campaign Kick-Off w/ AG Mark Herring\nRSVP: https://secure.ngpvan.com/pos5sWWcw0WqeeSbXzUWFQ2…
URL:https://herndonrestonindivisible.org/event/paul-siker-for-hd33-campaign-kick-off-w-mark-herring/
LOCATION:Zoom
ATTACH;FMTTYPE=image/jpeg:https://herndonrestonindivisible.org/wp-content/uploads/2021/03/paulsikerhd33.jpg
END:VEVENT
BEGIN:VEVENT
DTSTART;TZID=America/New_York:20210326T100000
DTEND;TZID=America/New_York:20210326T120000
DTSTAMP:20260425T153255
CREATED:20210304T204454Z
LAST-MODIFIED:20210304T211027Z
UID:13586-1616752800-1616760000@herndonrestonindivisible.org
SUMMARY:HRI Resistance Writers
DESCRIPTION:An informal virtual gathering on Fridays to work on resistance activities: write letters/postcards\, make calls\, read\, talk with fellow indivisibles about important issues that need our attention.  \nFill up with a weeks worth of actions. \nContact: herndonrestonindivisible@gmail.com with any questions and to get connected virtually.
URL:https://herndonrestonindivisible.org/event/hri-resistance-writers-10/
LOCATION:Zoom
ATTACH;FMTTYPE=image/jpeg:https://herndonrestonindivisible.org/wp-content/uploads/2017/11/resistancewritersfriday.jpg
END:VEVENT
BEGIN:VEVENT
DTSTART;TZID=America/New_York:20210325T160000
DTEND;TZID=America/New_York:20210325T170000
DTSTAMP:20260425T153255
CREATED:20210323T135544Z
LAST-MODIFIED:20210323T144024Z
UID:13618-1616688000-1616691600@herndonrestonindivisible.org
SUMMARY:HRI Women's Issue Group Meeting
DESCRIPTION:Contact: herndonrestonindivisible@gmail.com for details \n 
URL:https://herndonrestonindivisible.org/event/hri-womens-issue-group-meeting/
LOCATION:Zoom
ATTACH;FMTTYPE=image/png:https://herndonrestonindivisible.org/wp-content/uploads/2021/03/image-2.png
END:VEVENT
BEGIN:VEVENT
DTSTART;TZID=America/New_York:20210319T100000
DTEND;TZID=America/New_York:20210319T120000
DTSTAMP:20260425T153255
CREATED:20210304T204252Z
LAST-MODIFIED:20210304T204252Z
UID:13584-1616148000-1616155200@herndonrestonindivisible.org
SUMMARY:HRI Resistance Writers
DESCRIPTION:An informal virtual gathering on Fridays to work on resistance activities: write letters/postcards\, make calls\, read\, talk with fellow indivisibles about important issues that need our attention.  \nFill up with a weeks worth of actions. \nContact: herndonrestonindivisible@gmail.com with any questions and to get connected virtually.
URL:https://herndonrestonindivisible.org/event/hri-resistance-writers-9/
LOCATION:Zoom
ATTACH;FMTTYPE=image/jpeg:https://herndonrestonindivisible.org/wp-content/uploads/2017/11/resistancewritersfriday.jpg
END:VEVENT
BEGIN:VEVENT
DTSTART;TZID=America/New_York:20210318T190000
DTEND;TZID=America/New_York:20210318T203000
DTSTAMP:20260425T153255
CREATED:20210304T212025Z
LAST-MODIFIED:20210304T212025Z
UID:13588-1616094000-1616099400@herndonrestonindivisible.org
SUMMARY:HRI Science & Environment Group Meeting
DESCRIPTION:Contact: hri.env.sci@gmail.com for details and Zoom link. \n 
URL:https://herndonrestonindivisible.org/event/hri-science-environment-group-meeting/
LOCATION:Zoom
ATTACH;FMTTYPE=image/jpeg:https://herndonrestonindivisible.org/wp-content/uploads/2017/12/planetmap.jpg
END:VEVENT
BEGIN:VEVENT
DTSTART;TZID=America/New_York:20210316T190000
DTEND;TZID=America/New_York:20210316T203000
DTSTAMP:20260425T153255
CREATED:20210207T215201Z
LAST-MODIFIED:20210304T203214Z
UID:13516-1615921200-1615926600@herndonrestonindivisible.org
SUMMARY:HRI General Meeting: Mark Herring & Jay Jones
DESCRIPTION:Join HRI March General Meeting via Zoom at 7pm. \nOur guest speakers will be Attorney General Candidate(s) Mark Herring / Jay Jones and HD86 Candidate(s) Ibraheem Samirah / Irene Shin. \nContact: herndonresonidivisible@gmail.com for details.
URL:https://herndonrestonindivisible.org/event/hri-general-meeting-2/
LOCATION:Zoom
ATTACH;FMTTYPE=image/png:https://herndonrestonindivisible.org/wp-content/uploads/2021/02/hrigeneralmeetingmarch16b.png
END:VEVENT
BEGIN:VEVENT
DTSTART;TZID=America/New_York:20210314T140000
DTEND;TZID=America/New_York:20210314T150000
DTSTAMP:20260425T153255
CREATED:20210308T174647Z
LAST-MODIFIED:20210308T174836Z
UID:13592-1615730400-1615734000@herndonrestonindivisible.org
SUMMARY:NRA Monthly Vigil & Protest
DESCRIPTION:
URL:https://herndonrestonindivisible.org/event/nra-monthly-vigil-protest-2/
LOCATION:NRA Headquarters\, 11250 Waples Mill Rd\, Fairfax\, VA\, 22030
ATTACH;FMTTYPE=image/jpeg:https://herndonrestonindivisible.org/wp-content/uploads/2019/08/nrapolitico.jpg
END:VEVENT
BEGIN:VEVENT
DTSTART;TZID=America/New_York:20210312T100000
DTEND;TZID=America/New_York:20210312T120000
DTSTAMP:20260425T153255
CREATED:20210304T204050Z
LAST-MODIFIED:20210304T204050Z
UID:13582-1615543200-1615550400@herndonrestonindivisible.org
SUMMARY:HRI Resistance Writers
DESCRIPTION:An informal virtual gathering on Fridays to work on resistance activities: write letters/postcards\, make calls\, read\, talk with fellow indivisibles about important issues that need our attention.  \nFill up with a weeks worth of actions. \nContact: herndonrestonindivisible@gmail.com with any questions and to get connected virtually.
URL:https://herndonrestonindivisible.org/event/hri-resistance-writers-8/
LOCATION:Zoom
ATTACH;FMTTYPE=image/jpeg:https://herndonrestonindivisible.org/wp-content/uploads/2017/11/resistancewritersfriday.jpg
END:VEVENT
BEGIN:VEVENT
DTSTART;TZID=America/New_York:20210305T100000
DTEND;TZID=America/New_York:20210305T120000
DTSTAMP:20260425T153255
CREATED:20210304T203739Z
LAST-MODIFIED:20210304T203739Z
UID:13580-1614938400-1614945600@herndonrestonindivisible.org
SUMMARY:HRI Resistance Writers
DESCRIPTION:Contact: herndonrestonindivisible@gmail.com for details and Zoom link.
URL:https://herndonrestonindivisible.org/event/hri-resistance-writers-7/
LOCATION:Zoom
ATTACH;FMTTYPE=image/jpeg:https://herndonrestonindivisible.org/wp-content/uploads/2017/11/resistancewritersfriday.jpg
END:VEVENT
BEGIN:VEVENT
DTSTART;TZID=America/New_York:20210226T100000
DTEND;TZID=America/New_York:20210226T120000
DTSTAMP:20260425T153255
CREATED:20210209T100242Z
LAST-MODIFIED:20210209T100242Z
UID:13536-1614333600-1614340800@herndonrestonindivisible.org
SUMMARY:HRI Resistance Writers
DESCRIPTION:An informal virtual gathering on Fridays to work on resistance activities: write letters/postcards\, make calls\, read\, talk with fellow indivisibles about important issues that need our attention.  \nFill up with a weeks worth of actions. \nContact: herndonrestonindivisible@gmail.com with any questions and to get connected virtually.
URL:https://herndonrestonindivisible.org/event/hri-resistance-writers-4/
LOCATION:Zoom
ATTACH;FMTTYPE=image/jpeg:https://herndonrestonindivisible.org/wp-content/uploads/2017/11/resistancewritersfriday.jpg
END:VEVENT
BEGIN:VEVENT
DTSTART;TZID=America/New_York:20210219T100000
DTEND;TZID=America/New_York:20210219T120000
DTSTAMP:20260425T153255
CREATED:20210209T100029Z
LAST-MODIFIED:20210219T042445Z
UID:13534-1613728800-1613736000@herndonrestonindivisible.org
SUMMARY:HRI Resistance Writers: Filibuster Friday
DESCRIPTION:An informal virtual gathering on Fridays to work on resistance activities: write letters/postcards\, make calls\, read\, talk with fellow indivisibles about important issues that need our attention.  \nFill up with a weeks worth of actions. \nContact: herndonrestonindivisible@gmail.com with any questions and to get connected virtually.
URL:https://herndonrestonindivisible.org/event/hri-resistance-writers-3/
LOCATION:Zoom
ATTACH;FMTTYPE=image/jpeg:https://herndonrestonindivisible.org/wp-content/uploads/2017/11/resistancewritersfriday.jpg
END:VEVENT
BEGIN:VEVENT
DTSTART;TZID=America/New_York:20210218T190000
DTEND;TZID=America/New_York:20210218T203000
DTSTAMP:20260425T153255
CREATED:20210209T100753Z
LAST-MODIFIED:20210209T100753Z
UID:13538-1613674800-1613680200@herndonrestonindivisible.org
SUMMARY:HRI Science & Environmental Group Meeting
DESCRIPTION:Contact: hri.env.sci@gmail.com for details.
URL:https://herndonrestonindivisible.org/event/hri-science-environmental-group-meeting/
LOCATION:Zoom
ATTACH;FMTTYPE=image/jpeg:https://herndonrestonindivisible.org/wp-content/uploads/2017/12/planetmap.jpg
END:VEVENT
END:VCALENDAR